BEGIN:VCALENDAR
PRODID:-//hacksw/handcal//NONSGML v1.0//EN
VERSION:2.0
METHOD:PUBLISH
BEGIN:VEVENT
DTSTART:20161103T010000Z
DTEND:20161103T030000Z
LOCATION:Universal City and on the webcast
UID:1354120161103T010000ZFederal, State, Local and International Taxation Conference 
DTSTAMP:20260421T074707Z
DESCRIPTION:\nCalCPA Education Foundation is happy to bring a new conference to our lineup! From November 2-4, 2016 at the Sheraton Universal Hotel, we will be holding the Federal, State, Local and International Taxation Conference in Universal City and on the webcast.\n \n·         This conference is two and a half days of practical, deep dives into the tax information you need, now.\n ·         We’re offering over 40 sessions and will have over 50 speakers.\n ·         Plus, if you’re attending live, we’ll have networking opportunities with industry experts and peers.\n ·         Earn up to 20 hours of CPE along with 16 hours of MCLE and 16 hours of MCLE LS-TX\n \nFor a full agenda, please visit the landing page: calcpa.org/tax \n \nDiscount code: TAX150 to save $150.00 off of registration.\n *the code is case sensitive and valid only for discounting the non-member registration price\n \nMonica Nio\n Event Coordinator\n CalCPA Education Foundation\n \nDirect Line: 650.522.3136\n 1800 Gateway Dr., Ste 200 I San Mateo, CA 94404-4072\n monica.nio@calcpa.org I www.calcpa.org\n Upcoming Conferences\n Family Law: Oct. 27-28\n Federal, State, Local and International: Nov. 2-4\n
SUMMARY:Federal, State, Local and International Taxation Conference  - Woodland Hills Tax & Estate Planning Council 
PRIORITY:3
BEGIN:VALARM
TRIGGER:PT18H
ACTION:DISPLAY
DESCRIPTION:Reminder
END:VALARM
END:VEVENT
END:VCALENDAR