BEGIN:VCALENDAR
PRODID:-//hacksw/handcal//NONSGML v1.0//EN
VERSION:2.0
METHOD:PUBLISH
BEGIN:VEVENT
DTSTART:20170202T013000Z
DTEND:20170202T020000Z
LOCATION:Woodland Hills Country Club
UID:1423520170202T013000ZFebruary Roundtable 
DTSTAMP:20260421T075503Z
DESCRIPTION:
SUMMARY:February Roundtable  - Woodland Hills Tax & Estate Planning Council 
PRIORITY:3
BEGIN:VALARM
TRIGGER:PT18H
ACTION:DISPLAY
DESCRIPTION:Reminder
END:VALARM
END:VEVENT
END:VCALENDAR