BEGIN:VCALENDAR
PRODID:-//hacksw/handcal//NONSGML v1.0//EN
VERSION:2.0
METHOD:PUBLISH
BEGIN:VEVENT
DTSTART:20171207T013000Z
DTEND:20171207T020000Z
LOCATION:Woodland Hills Country Club 
UID:1533820171207T013000ZDecember Roundtable 
DTSTAMP:20260421T074903Z
DESCRIPTION:
SUMMARY:December Roundtable  - Woodland Hills Tax & Estate Planning Council 
PRIORITY:3
BEGIN:VALARM
TRIGGER:PT18H
ACTION:DISPLAY
DESCRIPTION:Reminder
END:VALARM
END:VEVENT
END:VCALENDAR