BEGIN:VCALENDAR
PRODID:-//hacksw/handcal//NONSGML v1.0//EN
VERSION:2.0
METHOD:PUBLISH
BEGIN:VEVENT
DTSTART:20200507T010000Z
DTEND:20200507T020000Z
LOCATION:ZOOM
UID:1809520200507T010000ZMay Meeting
DTSTAMP:20260425T165947Z
DESCRIPTION:\nWednesday, May 6 at \n     6 pm for 15 minutes of social time, and at\n     6:15 pm for our meeting. \n CLE credit will be provided.\n \nThe topic for the meeting is “Zooming Through the Pandemic: A panel discussion on the CARES Act—Taxes, Employment Issues and the Economic Results of the Stimulus Packages.”\n Our panelists will be:\n David Jones, Shareholder in the Employment Practice Group of Lewitt Hackman Marty Seiden, CPA, Gish, Seiden CPAs Aaron Levinson, Planned Giving Director, Los Angeles Jewish Home Moderated by Dennis Clapp, Executive Director, Client Advisor at J.P. Morgan Private Bank \nIn order to receive CLE credit, each member should email Tom Klarin (tklarin@gmail.com) stating that they attended the zoom meeting in full on May 6 presented by the WHT&EPC and request a certificate. The request must also state the member’s name and bar number (or equivalent number for CPE credit).\n \nSome have expressed concern about Zoom security. To reduce security risk, you may join the Zoom by audio only by telephone (including a landline). Of course, if you would like to view the video in addition to the hearing the audio, you will need to join by smartphone, tablet or computer. Instructions on joining the Zoom follow.\n \nJoin Zoom Meeting\n \nhttps://us02web.zoom.us/j/84212313754?pwd=eWRQcVFabnlPdExoa1ZJNjROWkNQQT09\n \nMeeting ID: 842 1231 3754\n \nPassword: 119845\n \nOne tap mobile\n \n+16699006833,,84212313754#,,#,119845# US (San Jose)\n \n+13462487799,,84212313754#,,#,119845# US (Houston)\n \nDial by your location\n \n        +1 669 900 6833 US (San Jose)\n \n        +1 346 248 7799 US (Houston)\n \n        +1 312 626 6799 US (Chicago)\n \n        +1 929 436 2866 US (New York)\n \n        +1 253 215 8782 US\n \n        +1 301 715 8592 US\n \nMeeting ID: 842 1231 3754 \n \nPassword: 119845\n \nFind your local number: https://us02web.zoom.us/u/kduXYEprvx\n
SUMMARY:May Meeting - Woodland Hills Tax & Estate Planning Council 
PRIORITY:3
BEGIN:VALARM
TRIGGER:PT18H
ACTION:DISPLAY
DESCRIPTION:Reminder
END:VALARM
END:VEVENT
END:VCALENDAR