BEGIN:VCALENDAR
PRODID:-//hacksw/handcal//NONSGML v1.0//EN
VERSION:2.0
METHOD:PUBLISH
BEGIN:VEVENT
DTSTART:20211209T020000Z
DTEND:20211209T050000Z
LOCATION:Sagebrush Cantina (outside patio)
UID:2202720211209T020000ZWHETPC Holiday Party! (No MCLE or CPE but a lot of fun)
DTSTAMP:20260425T165416Z
DESCRIPTION:\nWe are excited to invite you and your guest to our\nHoliday Party\nat the\nSagebrush Cantina\n23527 Calabasas Road, Calabasas\nWednesday, December 8, from 6pm to 9pm\n \nThere is no cost for guests this year.\n \nIt is an outdoor event so a sweater or jacket might be in order.  As we are uncertain as to all of the protocols that the restaurant has instituted, please bring your proof of vaccination or negative COVID test results (within 72 hours of our event).  Masks should be worn except when actively eating or drinking.  So please be sure you have one.  Our Board will also try to bring some additional masks just in case.\n \nThis event is for our dues-paying members only.  If you haven’t yet paid your dues and want to join us, please\n contact Sandy Decker, CPA, who is our Treasurer - sandy@skdeckercpa.com  or click here:  https://www.whtepc.org/members/renewal  or bring your checkbook with you to the event.  Checks will be collected at the door. \nHope to see you there!\n
SUMMARY:WHETPC Holiday Party! (No MCLE or CPE but a lot of fun) - Woodland Hills Tax & Estate Planning Council 
PRIORITY:3
BEGIN:VALARM
TRIGGER:PT18H
ACTION:DISPLAY
DESCRIPTION:Reminder
END:VALARM
END:VEVENT
END:VCALENDAR