BEGIN:VCALENDAR
PRODID:-//hacksw/handcal//NONSGML v1.0//EN
VERSION:2.0
METHOD:PUBLISH
BEGIN:VEVENT
DTSTART:20230120T013000Z
DTEND:20230120T040000Z
LOCATION:Woodland Hills Country Club
UID:2317720230120T013000ZJanuary Meeting 
DTSTAMP:20260421T075004Z
DESCRIPTION:\n \n \n5:30 to 6:00 Roundtable: Susanna Kim - Corporate Transparency Act & Final Rules\n \n6:00 to 8:00 Dinner\n \n7:00 to 8:00 Nick Van Brunt, Eva Van Brunt - Beyond No Comment: When, How and Why to Talk to the Media \n \n \n
SUMMARY:January Meeting  - Woodland Hills Tax & Estate Planning Council 
PRIORITY:3
BEGIN:VALARM
TRIGGER:PT18H
ACTION:DISPLAY
DESCRIPTION:Reminder
END:VALARM
END:VEVENT
END:VCALENDAR