BEGIN:VCALENDAR
PRODID:-//hacksw/handcal//NONSGML v1.0//EN
VERSION:2.0
METHOD:PUBLISH
BEGIN:VEVENT
DTSTART:20231215T013000Z
DTEND:20231215T040000Z
LOCATION:Woodland Hills Country Club
UID:2490720231215T013000ZDecember Meeting
DTSTAMP:20260419T124224Z
DESCRIPTION:\n5:30 to 6:00 Roundtable Speakers – Aaron Levinson and Maylene Nolasco – “Charitable Giving Strategies”\n \n6:00 to 8:00 Dinner\n \n7:00 to 8:00 Speakers:  Nancy Reinhardt, Jonathan Cole, Joel A. Osman, Robert Barton - Rule 8.3 – The Good, The Bad, The Ugly, and the Unknown\n \nNo need to rsvp\n
SUMMARY:December Meeting - Woodland Hills Tax & Estate Planning Council 
PRIORITY:3
BEGIN:VALARM
TRIGGER:PT18H
ACTION:DISPLAY
DESCRIPTION:Reminder
END:VALARM
END:VEVENT
END:VCALENDAR