BEGIN:VCALENDAR
PRODID:-//hacksw/handcal//NONSGML v1.0//EN
VERSION:2.0
METHOD:PUBLISH
BEGIN:VEVENT
DTSTART:20250411T003000Z
DTEND:20250411T030000Z
LOCATION:Woodland Hills Country Club
UID:2669620250411T003000ZMonthly Meeting
DTSTAMP:20260425T165221Z
DESCRIPTION:\n5:30pm to 6:00pm Roundtable - Michael Kelly, "Property Tax Savings with Legal Entities"\n \n6:00pm to 8:00pm Dinner\n \n7:00pm to 8:00pm Speaker - Caroline Q. Robbins "Estate Planning Updates"\n
SUMMARY:Monthly Meeting - Woodland Hills Tax & Estate Planning Council 
PRIORITY:3
BEGIN:VALARM
TRIGGER:PT18H
ACTION:DISPLAY
DESCRIPTION:Reminder
END:VALARM
END:VEVENT
END:VCALENDAR